BEGIN:VCALENDAR
VERSION:2.0
PRODID:-//https://webservices.re///NONSGML kigkonsult.se iCalcreator 2.10.15//
METHOD:PUBLISH
BEGIN:VEVENT
UID:20260419T143838CEST-8222lP4hUj@https://webservices.re/
DTSTAMP:20260419T123838Z
DESCRIPTION:TARIF: 25€ (hors T-shirt)\n🚴‍♂️&nbsp\;CYCLOCIVIS – Vendredi 15 
 août 2025 - 15ème Edition\nOrganisé par le Club Cycliste Saint-LouisienPar
 cours : 45 kmDépart : 7h00 – Saint-Pierre\, Boulevard Hubert de Lisle\, de
 vant le magasin CYCLOZONE\n\n\nT-shirt COLLECTOR\n\nTissu Mesh de qualité 
 / 90% Polyester 10% Elasthanne / Respirant à séchage rapide / Sans repassa
 ge\n\nRejoignez-nous pour une aventure sportive inédite entre Saint-Pierre
  et Cilaos !\nUn itinéraire exigeant et spectaculaire à travers les paysag
 es emblématiques du Sud de l’île.\n&nbsp\;🛣️&nbsp\;Itinéraire :\n\n\nDépar
 t : Boulevard Hubert de Lisle\, Saint-Pierre (devant Cyclozone)\n\n\nRond-
 point Cotrans → Bois d’Olive → Chemin Badamier\n\n\nD38 à gauche → D27 (ro
 nd-point de la pharmacie tout droit) → D26 à droite\n\n\nAprès le pont mét
 allique → D3 Le Ouaki à gauche\n\n\nRoute Hubert Delisle à droite → N5 Rou
 te de Cilaos\n\n\nArrivée : Stade de Cilaos\n\n\n&nbsp\;🛡️&nbsp\;Sécurité 
 :\n\n\nCasque obligatoire\n\n\nRespect du Code de la route\n\n\nParcours f
 léché pour votre sécurité\n\n\n🥤Ravitaillement :\n\n\nPoints de ravitaille
 ment à : Départ – 2ᵉ tunnel – Arrivée (côté droit de la route)\n\n\n📝&nbsp
 \;Inscriptions :\n\n\nTarif : 25 € (+ 15 € pour obtenir le t-shirt officie
 l)\n\n\nCatégorie ouverte à partir de 15 ans\n\n\n&nbsp\;🏆&nbsp\;Récompens
 es :\n\n\nTrophées et médailles pour les 3 premiers de chaque catégorie\n
 \n\n&nbsp\;📜&nbsp\;Règlement :\n\n\nSous l’égide de la FFC (Fédération Fra
 nçaise de Cyclisme)\n\n https://webservices.re/index.php/events/evenement/
 724-cyclo-civis-45km-ccsl
DTSTART;VALUE=DATE:20250815
LOCATION:CILAOS - Rue du Stade (1-11 Rue du Stade\, Réunion)
SUMMARY:Cyclo CIVIS - 45km - CCSL
URL:https://webservices.re/index.php/events/evenement/724-cyclo-civis-45km-
 ccsl
END:VEVENT
END:VCALENDAR
