BEGIN:VCALENDAR
VERSION:2.0
PRODID:-//https://webservices.re///NONSGML kigkonsult.se iCalcreator 2.10.15//
METHOD:PUBLISH
BEGIN:VEVENT
UID:20260422T110413CEST-384340wx9m@https://webservices.re/
DTSTAMP:20260422T090413Z
DESCRIPTION:TARIF: 5€\n'Ouest Trail Réunion'&nbsp\; &nbsp\; &nbsp\; &nbsp\;
 &nbsp\;\nFormat de Course: Course à pied MarmayDate: 27 avril 2025Départ /
  Arrivée :&nbsp\;Stade de VillèleDistance:&nbsp\;740m (10m D+)Catégories:&
 nbsp\;Minimes / Cadets / Juniors - 2006 à 2011Parcours:&nbsp\;&nbsp\;🔹 Tra
 il Minimes/Cadets/Juniors – 20 placesClôture des inscriptions:&nbsp\;Diman
 che 20 avril 2025\nLA BOUCLE INFERNALE MARMAY 2025 – Un Trail 100% Jeunes 
 !\n👟 Ouest Trail Réunion\, sous l’égide de la Ligue Réunionnaise d’Athléti
 sme et en partenariat avec la Commune de Saint-Paul\, lance la 1ʳᵉ édition
  de la Boucle Infernale Marmay le 27 avril 2025 ! Un événement 100% dédié 
 aux jeunes traileurs\, pour leur permettre de découvrir la passion du trai
 l sur un parcours adapté à leur âge et à leur niveau.\n📍 Lieu : Saint-Paul
 📆 Date : Dimanche 27 avril 2025👶 Public : Catégories jeunes uniquement\nUn
  événement sportif convivial et formateur\, pour encourager les jeunes à d
 écouvrir l’univers du trail dans un cadre sécurisé et adapté à leur progre
 ssion.\n📆 Places limitées ! Restez connectés pour ne pas manquer les inscr
 iptions et offrir aux jeunes la chance de relever le défi de la Boucle Inf
 ernale Marmay 2025 ! 🚀\n\nREGLEMENT:\n https://webservices.re/index.php/ev
 ents/evenement/709-trail-minimes-cadets-juniors-la-boucle-infernale
DTSTART;VALUE=DATE:20250427
LOCATION:villèle\, Réunion ouest. (Villèle\, Réunion)
SUMMARY:Trail Minimes/Cadets/Juniors - La Boucle Infernale
URL:https://webservices.re/index.php/events/evenement/709-trail-minimes-cad
 ets-juniors-la-boucle-infernale
END:VEVENT
END:VCALENDAR
