BEGIN:VCALENDAR
VERSION:2.0
PRODID:-//https://webservices.re///NONSGML kigkonsult.se iCalcreator 2.10.15//
METHOD:PUBLISH
BEGIN:VEVENT
UID:20260420T090354CEST-7944UskeTF@https://webservices.re/
DTSTAMP:20260420T070354Z
DESCRIPTION:TARIF: 20€ ht\nPRESENTATION:\nLes 4 heures de VTT de la ville d
 e l’Étang-Salé est une compétition de VTT organisée sous l’égide du Comité
  Sport Pour Tous\, ouverte à tous les passionnés de cyclisme. Cet événemen
 t se tiendra le samedi 14 décembre 2024 dans la forêt de l’Étang-Salé\, au
  lieu-dit « Saut de parachute »\, offrant une expérience unique dans un ca
 dre naturel exceptionnel.\nNouveauté cette année : les participants pourro
 nt choisir de concourir en solo. Le départ et l’arrivée se feront au nivea
 u du saut\, et la course se déroulera sur une durée de 4 heures\, de 18h00
  à 22h00.\nRejoignez cette course d’endurance.\nREGLEMENT:&nbsp\;\n https:
 //webservices.re/index.php/events/evenement/671-4h-vtt-en-solitaire-vttl
DTSTART;VALUE=DATE:20241214
LOCATION:L'Etang Salé (Chemin du Zoo\, l'Étang-Salé les Bains\, Réunion)
SUMMARY:4H VTT en Solitaire - VTTL
URL:https://webservices.re/index.php/events/evenement/671-4h-vtt-en-solitai
 re-vttl
END:VEVENT
END:VCALENDAR
