BEGIN:VCALENDAR
VERSION:2.0
PRODID:-//https://webservices.re///NONSGML kigkonsult.se iCalcreator 2.10.15//
METHOD:PUBLISH
BEGIN:VEVENT
UID:20260420T090725CEST-2275hxabuN@https://webservices.re/
DTSTAMP:20260420T070725Z
DESCRIPTION:TARIF: 9€\n'Etang Vélo Club - #EVC'\n\n\n\n\n\n\n\n\n\n**Le Gra
 nd Prix Cycliste Hugues Lassays Bike974** organisé par l'**Étang Vélo Club
  (EVC)** se tiendra le **dimanche 18 août 2024** sur l'axe mixte de Cambai
 e. Cet événement est un rendez-vous incontournable pour les passionnés de 
 cyclisme\, avec des courses ouvertes aux coureurs de la catégorie U17 jusq
 u'aux élites\, sans oublier les dames.\n**Programme de l'épreuve :**\n- **
 Contre-la-montre (CLM) individuel** : Les coureurs s'affronteront sur une 
 distance de 6 km. Ce format mettra à l'épreuve leurs capacités à rouler en
  solitaire\, en demandant puissance\, endurance et gestion optimale de l'e
 ffort. - **Circuit** : Les participants s'affronteront ensuite sur un circ
 uit de 4\,5 km. Ce parcours technique et exigeant\, avec des virages serré
 s et des sections rapides\, testera leur stratégie de course\, leur capaci
 té à gérer les relances\, et leur agilité.\nL'épreuve promet du spectacle 
 et de l'intensité\, avec une compétition serrée entre les jeunes talents e
 t les cyclistes les plus expérimentés. C'est une occasion pour tous de se 
 mesurer dans un cadre compétitif et convivial.\nRendez-vous le **dimanche 
 18 août 2024** pour vivre une journée de cyclisme exceptionnelle sur l'axe
  mixte de Cambaie\, en hommage à Hugues Lassays.\n\n\n\n\n\n\n\n\nCloture 
 des inscriptions:\n\nVendredi 16 août 2024 à 12H00\n\n\nProgrammeS:\n\n\n&
 nbsp\;PLAN:\n https://webservices.re/index.php/events/evenement/647-gp-cyc
 liste-hugues-lassays-evc
DTSTART;VALUE=DATE:20240818
LOCATION:Axe Miste de Cambaie - Saint-Paul (Cambaie\, Saint-Paul 97460\, La
  Réunion)
SUMMARY:GP Cycliste Hugues Lassays - EVC
URL:https://webservices.re/index.php/events/evenement/647-gp-cycliste-hugue
 s-lassays-evc
END:VEVENT
END:VCALENDAR
