BEGIN:VCALENDAR
VERSION:2.0
PRODID:-//https://webservices.re///NONSGML kigkonsult.se iCalcreator 2.10.15//
METHOD:PUBLISH
BEGIN:VEVENT
UID:20260419T142422CEST-6616lex439@https://webservices.re/
DTSTAMP:20260419T122422Z
DESCRIPTION:TARIF: 15€ TTC\nLe nombre maximal d’inscriptions a été atteint.
 18ème Édition\nDate: Dimanche 17 novembre 2024Distances:&nbsp\;11kmCatégor
 ie d'age:&nbsp\;Réservé aux Juniors (2006/2007)Clôture des inscriptions:&n
 bsp\;Dimanche 10 novembre 2024 à 23h59Retrait des Dossards:&nbsp\;Les doss
 ards seront retirer les:\n\nMercredi 13 novembre 2024&nbsp\;de 14h à 18h à
 &nbsp\;BE Sport Saint-Pierre\nJeudi 14 novembre 2024&nbsp\;de 12h à 18h à&
 nbsp\;BE SPORT SAVANNA-ST PAUL\nVendredi 15 novembre 2024&nbsp\;de 15h à 1
 8h à&nbsp\;City Sport – ST DENIS\n\n\n\n\n\n\n\n\n\n\nLa KALLA NESCAFE\, o
 rganisée par le Club d’Athlétisme de la Possession (CAPOSS)\, est un événe
 ment sportif inscrit au calendrier de la Ligue Réunionnaise d’Athlétisme (
 LRA). Il propose plusieurs épreuves le 17 novembre 2024 :\n\nTrail KALLA N
 ESCAFE : 26 km avec 1250m de dénivelé positif\, départ à 6h de la Place Fe
 stival.\nCourse Junior KALLA NESCAFE : 11 km avec 600m de dénivelé positif
 \, départ vers 6h45 du sentier KALLA\, réservée aux juniors.\nRandonnée KA
 LLA NESCAFE : 11 km avec 600m de dénivelé positif\, départ à 7h30 de la Pl
 ace Festival.\n\nCet événement est une belle occasion de découvrir les pay
 sages de La Réunion tout en pratiquant une activité sportive. Prêt à relev
 er le défi?\n\nINFORMATIONS:\n\nDe nombreux lots offerts par Nescafé aux v
 ainqueurs Scratch et aux catégories.\n \n1 jeu de 4 pneus Michelin aux 1er
 s scratch Hommes et Femmes\, et un jeu de 4 pneus par tirage au sort. (off
 ert par REP)\n**Voir les catégories d'age FFA pour 2024/2025\n\n\n\n\n\n\n
 \n\n\n\nRÈGLEMENT DE L'ÉPREUVE\n\n\n&nbsp\;PLAN:\n&nbsp\; https://webser
 vices.re/index.php/events/evenement/645-la-kalla-nescafe-junior-11km-capos
 s
DTSTART;VALUE=DATE:20241117
LOCATION:Place Festival La Possession (Place Festival La Possession)
SUMMARY:La Kalla Nescafe Junior 11km - CAPOSS
URL:https://webservices.re/index.php/events/evenement/645-la-kalla-nescafe-
 junior-11km-caposs
END:VEVENT
END:VCALENDAR
