BEGIN:VCALENDAR
VERSION:2.0
PRODID:-//https://webservices.re///NONSGML kigkonsult.se iCalcreator 2.10.15//
METHOD:PUBLISH
BEGIN:VEVENT
UID:20260419T143744CEST-02855dSzmU@https://webservices.re/
DTSTAMP:20260419T123744Z
DESCRIPTION:TARIF: 9€\n'La Marine - Quartier Français'\n\n\n\n\n\n\n\n\nLe 
 Grand Prix Cycliste de Sainte-Suzanne se tiendra le dimanche 28 juillet 20
 24\, organisé par la Commission Régionale de Cyclisme Traditionnel (CRCT).
 \nLe départ sera donné sur la RN2002\, Parking Covoiturage à La Marine. Le
 s cyclistes parcourront un circuit de 4\,480 km par tour\, suivi d’une mon
 tée finale de 3\,5 km. L’arrivée se fera sur la RD63\, chemin Bellevue\, a
 u niveau de la Stèle.\nLa course est ouverte aux catégories allant des U17
  garçons jusqu’aux élites. L’accueil et l’émargement débuteront à 12h00. 🚴
 ‍♂️\nEst-ce que vous allez y participer ou encourager quelqu’un?\n\n\n\n\n
 \n\n\n\nProgramme de La journée\n\nPLAN:\n https://webservices.re/index.ph
 p/events/evenement/639-gp-cycliste-de-sainte-suzanne-crct
DTSTART;VALUE=DATE:20240728
LOCATION:La Marine Quartier Français (Quartier-Français\, Ste Suzanne 97441
 \, La Réunion)
SUMMARY:GP Cycliste de Sainte-Suzanne - CRCT
URL:https://webservices.re/index.php/events/evenement/639-gp-cycliste-de-sa
 inte-suzanne-crct
END:VEVENT
END:VCALENDAR
