BEGIN:VCALENDAR
VERSION:2.0
PRODID:-//https://webservices.re///NONSGML kigkonsult.se iCalcreator 2.10.15//
METHOD:PUBLISH
BEGIN:VEVENT
UID:20260419T143529CEST-6600TRfdUE@https://webservices.re/
DTSTAMP:20260419T123529Z
DESCRIPTION:TARIF: 6€ / 9€\n'Les 30 ans du VCSD'\n\n\n\n\n\n\n\n\nBienvenue
  à la célébration du 30e anniversaire du VCSD avec le Grand Prix de Saint 
 Denis qui aura lieu le 4 août 2024. Cet événement est fièrement organisé p
 ar le VCSD lui-même.\nLe lieu de départ et d’arrivée est la Zone Industrie
 lle du Chaudron à Sainte Clotilde. C’est une occasion pour tous les cyclis
 tes\, des plus jeunes de la catégorie U7 jusqu’aux élites\, de montrer leu
 r passion et leur détermination.\nPour les points\, veuillez vous référer 
 à la réglementation fédérale de la FFC. Préparez-vous pour une journée de 
 compétition intense et de camaraderie. Nous avons hâte de vous voir là-bas
 ! 🚴‍♂️🚴‍♀️\n\n\n\n\n\n\n\n\nProgramme de La journée\n\nPLAN:\n https://web
 services.re/index.php/events/evenement/638-gp-cycliste-du-vcsd
DTSTART;VALUE=DATE:20240804
LOCATION:Le chaudron saint-denis (Le Chaudron\, Saint-Denis 97400\, La Réun
 ion)
SUMMARY:GP Cycliste du VCSD
URL:https://webservices.re/index.php/events/evenement/638-gp-cycliste-du-vc
 sd
END:VEVENT
END:VCALENDAR
