BEGIN:VCALENDAR
VERSION:2.0
PRODID:-//https://webservices.re///NONSGML kigkonsult.se iCalcreator 2.10.15//
METHOD:PUBLISH
BEGIN:VEVENT
UID:20260422T122947CEST-3906UGjoIs@https://webservices.re/
DTSTAMP:20260422T102947Z
DESCRIPTION:TARIF: 20€ HT\nStade de la Redoute à Saint-Denis\nDate: Dimanch
 e 21 juillet 2024Départ / Arrivée:&nbsp\;Stade de la RedouteDistances:&nbs
 p\;10kmCatégorie d'age:&nbsp\;Toutes les Dames de 16 ans et plusClôture de
 s inscriptions:&nbsp\;Mercredi 17 juillet 2024 à 23h59 - Jeudi 18 juillet 
 2024 à 23h59Autorisation Parentale pour les mineursRetrait des Dossards:&n
 bsp\;Chez INTERSPORT à SAINTE CLOTILDE (97 490) le samedi 20 juillet de 09
 h00 à 15h00\n\n\n\nLe Trail K’frines est un événement sportif qui se dérou
 lera le dimanche 21 juillet 2024 à Saint-Denis\, sur l’île de La Réunion. 
 Voici les détails de cette course :\n\nDépart/Arrivée : Stade de la Redout
 e\nDeux distances :\n\n25 km\n10 km\n\n\n\nCette course est exclusivement 
 réservée aux femmes et est ouverte à toutes celles âgées de 16 ans et plus
 . Les compétitrices doivent être au minimum de la catégorie Juniors. Notez
  que le parcours ne permet pas l’accueil des athlètes en fauteuil.\nPrépar
 ez-vous bien et profitez de cette belle aventure sportive ! 🏃‍♀️💪\n\n\n\n
 \nRÈGLEMENT DE L'ÉPREUVE\n\n\nPLAN:&nbsp\; https://webservices.re/index.
 php/categories/evenement/604-trail-kfrine-10km-2024
DTSTART;VALUE=DATE:20240721
LOCATION:Stade La Redoute (Saint-Denis 97400\, La Réunion)
SUMMARY:Trail KFrine 10km - 2024
URL:https://webservices.re/index.php/categories/evenement/604-trail-kfrine-
 10km-2024
END:VEVENT
END:VCALENDAR
